BEGIN:VCALENDAR
VERSION:2.0
PRODID:-//Virginia Community Health Worker Association - ECPv6.15.20//NONSGML v1.0//EN
CALSCALE:GREGORIAN
METHOD:PUBLISH
X-ORIGINAL-URL:https://chwofva.com
X-WR-CALDESC:Events for Virginia Community Health Worker Association
REFRESH-INTERVAL;VALUE=DURATION:PT1H
X-Robots-Tag:noindex
X-PUBLISHED-TTL:PT1H
BEGIN:VTIMEZONE
TZID:America/Halifax
BEGIN:DAYLIGHT
TZOFFSETFROM:-0400
TZOFFSETTO:-0300
TZNAME:ADT
DTSTART:20250309T060000
END:DAYLIGHT
BEGIN:STANDARD
TZOFFSETFROM:-0300
TZOFFSETTO:-0400
TZNAME:AST
DTSTART:20251102T050000
END:STANDARD
BEGIN:DAYLIGHT
TZOFFSETFROM:-0400
TZOFFSETTO:-0300
TZNAME:ADT
DTSTART:20260308T060000
END:DAYLIGHT
BEGIN:STANDARD
TZOFFSETFROM:-0300
TZOFFSETTO:-0400
TZNAME:AST
DTSTART:20261101T050000
END:STANDARD
BEGIN:DAYLIGHT
TZOFFSETFROM:-0400
TZOFFSETTO:-0300
TZNAME:ADT
DTSTART:20270314T060000
END:DAYLIGHT
BEGIN:STANDARD
TZOFFSETFROM:-0300
TZOFFSETTO:-0400
TZNAME:AST
DTSTART:20271107T050000
END:STANDARD
END:VTIMEZONE
BEGIN:VEVENT
DTSTART;VALUE=DATE:20260811
DTEND;VALUE=DATE:20260812
DTSTAMP:20260421T212039
CREATED:20260326T074119Z
LAST-MODIFIED:20260417T190714Z
UID:10000071-1786406400-1786492799@chwofva.com
SUMMARY:Promotor de Salud Coalition
DESCRIPTION:Join VACHWA’s Coalición de Promotores de Salud—our monthly space for CHWs to connect\, learn\, and strengthen community health. \nVirginia Community Health Worker Association (VACHWA)\nLa Asociación de Promotores de Salud de Virginia (VACHWA) es un espacio acogedor para Promotores de Salud y otros títulos relacionados\, donde pueden conectarse\, aprender y crecer tanto personal como profesionalmente a través de la educación y la abogacía. \nRegistration Link \nhttps://chwofva.com/wp-content/uploads/2026/04/images-1.png
URL:https://chwofva.com/event/promotor-de-salud-coalition/2026-08-11/
ATTACH;FMTTYPE=image/png:https://chwofva.com/wp-content/uploads/2026/03/Picture1.png
END:VEVENT
END:VCALENDAR