BEGIN:VCALENDAR
VERSION:2.0
PRODID:-//Virginia Community Health Worker Association - ECPv6.15.20//NONSGML v1.0//EN
CALSCALE:GREGORIAN
METHOD:PUBLISH
X-WR-CALNAME:Virginia Community Health Worker Association
X-ORIGINAL-URL:https://chwofva.com
X-WR-CALDESC:Events for Virginia Community Health Worker Association
REFRESH-INTERVAL;VALUE=DURATION:PT1H
X-Robots-Tag:noindex
X-PUBLISHED-TTL:PT1H
BEGIN:VTIMEZONE
TZID:America/Halifax
BEGIN:DAYLIGHT
TZOFFSETFROM:-0400
TZOFFSETTO:-0300
TZNAME:ADT
DTSTART:20250309T060000
END:DAYLIGHT
BEGIN:STANDARD
TZOFFSETFROM:-0300
TZOFFSETTO:-0400
TZNAME:AST
DTSTART:20251102T050000
END:STANDARD
BEGIN:DAYLIGHT
TZOFFSETFROM:-0400
TZOFFSETTO:-0300
TZNAME:ADT
DTSTART:20260308T060000
END:DAYLIGHT
BEGIN:STANDARD
TZOFFSETFROM:-0300
TZOFFSETTO:-0400
TZNAME:AST
DTSTART:20261101T050000
END:STANDARD
BEGIN:DAYLIGHT
TZOFFSETFROM:-0400
TZOFFSETTO:-0300
TZNAME:ADT
DTSTART:20270314T060000
END:DAYLIGHT
BEGIN:STANDARD
TZOFFSETFROM:-0300
TZOFFSETTO:-0400
TZNAME:AST
DTSTART:20271107T050000
END:STANDARD
BEGIN:DAYLIGHT
TZOFFSETFROM:-0400
TZOFFSETTO:-0300
TZNAME:ADT
DTSTART:20280312T060000
END:DAYLIGHT
BEGIN:STANDARD
TZOFFSETFROM:-0300
TZOFFSETTO:-0400
TZNAME:AST
DTSTART:20281105T050000
END:STANDARD
BEGIN:DAYLIGHT
TZOFFSETFROM:-0400
TZOFFSETTO:-0300
TZNAME:ADT
DTSTART:20290311T060000
END:DAYLIGHT
BEGIN:STANDARD
TZOFFSETFROM:-0300
TZOFFSETTO:-0400
TZNAME:AST
DTSTART:20291104T050000
END:STANDARD
END:VTIMEZONE
BEGIN:VEVENT
DTSTART;VALUE=DATE:20260512
DTEND;VALUE=DATE:20260513
DTSTAMP:20260421T121322
CREATED:20260326T074119Z
LAST-MODIFIED:20260417T190714Z
UID:10000068-1778544000-1778630399@chwofva.com
SUMMARY:Promotor de Salud Coalition
DESCRIPTION:Join VACHWA’s Coalición de Promotores de Salud—our monthly space for CHWs to connect\, learn\, and strengthen community health. \nVirginia Community Health Worker Association (VACHWA)\nLa Asociación de Promotores de Salud de Virginia (VACHWA) es un espacio acogedor para Promotores de Salud y otros títulos relacionados\, donde pueden conectarse\, aprender y crecer tanto personal como profesionalmente a través de la educación y la abogacía. \nRegistration Link \nhttps://chwofva.com/wp-content/uploads/2026/04/images-1.png
URL:https://chwofva.com/event/promotor-de-salud-coalition/2026-05-12/
ATTACH;FMTTYPE=image/png:https://chwofva.com/wp-content/uploads/2026/03/Picture1.png
END:VEVENT
BEGIN:VEVENT
DTSTART;VALUE=DATE:20260609
DTEND;VALUE=DATE:20260610
DTSTAMP:20260421T121322
CREATED:20260326T074119Z
LAST-MODIFIED:20260417T190714Z
UID:10000069-1780963200-1781049599@chwofva.com
SUMMARY:Promotor de Salud Coalition
DESCRIPTION:Join VACHWA’s Coalición de Promotores de Salud—our monthly space for CHWs to connect\, learn\, and strengthen community health. \nVirginia Community Health Worker Association (VACHWA)\nLa Asociación de Promotores de Salud de Virginia (VACHWA) es un espacio acogedor para Promotores de Salud y otros títulos relacionados\, donde pueden conectarse\, aprender y crecer tanto personal como profesionalmente a través de la educación y la abogacía. \nRegistration Link \nhttps://chwofva.com/wp-content/uploads/2026/04/images-1.png
URL:https://chwofva.com/event/promotor-de-salud-coalition/2026-06-09/
ATTACH;FMTTYPE=image/png:https://chwofva.com/wp-content/uploads/2026/03/Picture1.png
END:VEVENT
BEGIN:VEVENT
DTSTART;VALUE=DATE:20260714
DTEND;VALUE=DATE:20260715
DTSTAMP:20260421T121322
CREATED:20260326T074119Z
LAST-MODIFIED:20260417T190714Z
UID:10000070-1783987200-1784073599@chwofva.com
SUMMARY:Promotor de Salud Coalition
DESCRIPTION:Join VACHWA’s Coalición de Promotores de Salud—our monthly space for CHWs to connect\, learn\, and strengthen community health. \nVirginia Community Health Worker Association (VACHWA)\nLa Asociación de Promotores de Salud de Virginia (VACHWA) es un espacio acogedor para Promotores de Salud y otros títulos relacionados\, donde pueden conectarse\, aprender y crecer tanto personal como profesionalmente a través de la educación y la abogacía. \nRegistration Link \nhttps://chwofva.com/wp-content/uploads/2026/04/images-1.png
URL:https://chwofva.com/event/promotor-de-salud-coalition/2026-07-14/
ATTACH;FMTTYPE=image/png:https://chwofva.com/wp-content/uploads/2026/03/Picture1.png
END:VEVENT
BEGIN:VEVENT
DTSTART;VALUE=DATE:20260811
DTEND;VALUE=DATE:20260812
DTSTAMP:20260421T121322
CREATED:20260326T074119Z
LAST-MODIFIED:20260417T190714Z
UID:10000071-1786406400-1786492799@chwofva.com
SUMMARY:Promotor de Salud Coalition
DESCRIPTION:Join VACHWA’s Coalición de Promotores de Salud—our monthly space for CHWs to connect\, learn\, and strengthen community health. \nVirginia Community Health Worker Association (VACHWA)\nLa Asociación de Promotores de Salud de Virginia (VACHWA) es un espacio acogedor para Promotores de Salud y otros títulos relacionados\, donde pueden conectarse\, aprender y crecer tanto personal como profesionalmente a través de la educación y la abogacía. \nRegistration Link \nhttps://chwofva.com/wp-content/uploads/2026/04/images-1.png
URL:https://chwofva.com/event/promotor-de-salud-coalition/2026-08-11/
ATTACH;FMTTYPE=image/png:https://chwofva.com/wp-content/uploads/2026/03/Picture1.png
END:VEVENT
BEGIN:VEVENT
DTSTART;VALUE=DATE:20260908
DTEND;VALUE=DATE:20260909
DTSTAMP:20260421T121323
CREATED:20260326T074119Z
LAST-MODIFIED:20260417T190714Z
UID:10000072-1788825600-1788911999@chwofva.com
SUMMARY:Promotor de Salud Coalition
DESCRIPTION:Join VACHWA’s Coalición de Promotores de Salud—our monthly space for CHWs to connect\, learn\, and strengthen community health. \nVirginia Community Health Worker Association (VACHWA)\nLa Asociación de Promotores de Salud de Virginia (VACHWA) es un espacio acogedor para Promotores de Salud y otros títulos relacionados\, donde pueden conectarse\, aprender y crecer tanto personal como profesionalmente a través de la educación y la abogacía. \nRegistration Link \nhttps://chwofva.com/wp-content/uploads/2026/04/images-1.png
URL:https://chwofva.com/event/promotor-de-salud-coalition/2026-09-08/
ATTACH;FMTTYPE=image/png:https://chwofva.com/wp-content/uploads/2026/03/Picture1.png
END:VEVENT
BEGIN:VEVENT
DTSTART;VALUE=DATE:20261013
DTEND;VALUE=DATE:20261014
DTSTAMP:20260421T121323
CREATED:20260326T074119Z
LAST-MODIFIED:20260417T190714Z
UID:10000073-1791849600-1791935999@chwofva.com
SUMMARY:Promotor de Salud Coalition
DESCRIPTION:Join VACHWA’s Coalición de Promotores de Salud—our monthly space for CHWs to connect\, learn\, and strengthen community health. \nVirginia Community Health Worker Association (VACHWA)\nLa Asociación de Promotores de Salud de Virginia (VACHWA) es un espacio acogedor para Promotores de Salud y otros títulos relacionados\, donde pueden conectarse\, aprender y crecer tanto personal como profesionalmente a través de la educación y la abogacía. \nRegistration Link \nhttps://chwofva.com/wp-content/uploads/2026/04/images-1.png
URL:https://chwofva.com/event/promotor-de-salud-coalition/2026-10-13/
ATTACH;FMTTYPE=image/png:https://chwofva.com/wp-content/uploads/2026/03/Picture1.png
END:VEVENT
BEGIN:VEVENT
DTSTART;VALUE=DATE:20261110
DTEND;VALUE=DATE:20261111
DTSTAMP:20260421T121323
CREATED:20260326T074119Z
LAST-MODIFIED:20260417T190714Z
UID:10000074-1794268800-1794355199@chwofva.com
SUMMARY:Promotor de Salud Coalition
DESCRIPTION:Join VACHWA’s Coalición de Promotores de Salud—our monthly space for CHWs to connect\, learn\, and strengthen community health. \nVirginia Community Health Worker Association (VACHWA)\nLa Asociación de Promotores de Salud de Virginia (VACHWA) es un espacio acogedor para Promotores de Salud y otros títulos relacionados\, donde pueden conectarse\, aprender y crecer tanto personal como profesionalmente a través de la educación y la abogacía. \nRegistration Link \nhttps://chwofva.com/wp-content/uploads/2026/04/images-1.png
URL:https://chwofva.com/event/promotor-de-salud-coalition/2026-11-10/
ATTACH;FMTTYPE=image/png:https://chwofva.com/wp-content/uploads/2026/03/Picture1.png
END:VEVENT
BEGIN:VEVENT
DTSTART;VALUE=DATE:20261208
DTEND;VALUE=DATE:20261209
DTSTAMP:20260421T121323
CREATED:20260326T074119Z
LAST-MODIFIED:20260417T190714Z
UID:10000075-1796688000-1796774399@chwofva.com
SUMMARY:Promotor de Salud Coalition
DESCRIPTION:Join VACHWA’s Coalición de Promotores de Salud—our monthly space for CHWs to connect\, learn\, and strengthen community health. \nVirginia Community Health Worker Association (VACHWA)\nLa Asociación de Promotores de Salud de Virginia (VACHWA) es un espacio acogedor para Promotores de Salud y otros títulos relacionados\, donde pueden conectarse\, aprender y crecer tanto personal como profesionalmente a través de la educación y la abogacía. \nRegistration Link \nhttps://chwofva.com/wp-content/uploads/2026/04/images-1.png
URL:https://chwofva.com/event/promotor-de-salud-coalition/2026-12-08/
ATTACH;FMTTYPE=image/png:https://chwofva.com/wp-content/uploads/2026/03/Picture1.png
END:VEVENT
BEGIN:VEVENT
DTSTART;VALUE=DATE:20270112
DTEND;VALUE=DATE:20270113
DTSTAMP:20260421T121323
CREATED:20260326T074119Z
LAST-MODIFIED:20260417T190714Z
UID:10000076-1799712000-1799798399@chwofva.com
SUMMARY:Promotor de Salud Coalition
DESCRIPTION:Join VACHWA’s Coalición de Promotores de Salud—our monthly space for CHWs to connect\, learn\, and strengthen community health. \nVirginia Community Health Worker Association (VACHWA)\nLa Asociación de Promotores de Salud de Virginia (VACHWA) es un espacio acogedor para Promotores de Salud y otros títulos relacionados\, donde pueden conectarse\, aprender y crecer tanto personal como profesionalmente a través de la educación y la abogacía. \nRegistration Link \nhttps://chwofva.com/wp-content/uploads/2026/04/images-1.png
URL:https://chwofva.com/event/promotor-de-salud-coalition/2027-01-12/
ATTACH;FMTTYPE=image/png:https://chwofva.com/wp-content/uploads/2026/03/Picture1.png
END:VEVENT
BEGIN:VEVENT
DTSTART;VALUE=DATE:20270209
DTEND;VALUE=DATE:20270210
DTSTAMP:20260421T121323
CREATED:20260326T074119Z
LAST-MODIFIED:20260417T190714Z
UID:10000077-1802131200-1802217599@chwofva.com
SUMMARY:Promotor de Salud Coalition
DESCRIPTION:Join VACHWA’s Coalición de Promotores de Salud—our monthly space for CHWs to connect\, learn\, and strengthen community health. \nVirginia Community Health Worker Association (VACHWA)\nLa Asociación de Promotores de Salud de Virginia (VACHWA) es un espacio acogedor para Promotores de Salud y otros títulos relacionados\, donde pueden conectarse\, aprender y crecer tanto personal como profesionalmente a través de la educación y la abogacía. \nRegistration Link \nhttps://chwofva.com/wp-content/uploads/2026/04/images-1.png
URL:https://chwofva.com/event/promotor-de-salud-coalition/2027-02-09/
ATTACH;FMTTYPE=image/png:https://chwofva.com/wp-content/uploads/2026/03/Picture1.png
END:VEVENT
BEGIN:VEVENT
DTSTART;VALUE=DATE:20270309
DTEND;VALUE=DATE:20270310
DTSTAMP:20260421T121323
CREATED:20260326T074119Z
LAST-MODIFIED:20260417T190714Z
UID:10000078-1804550400-1804636799@chwofva.com
SUMMARY:Promotor de Salud Coalition
DESCRIPTION:Join VACHWA’s Coalición de Promotores de Salud—our monthly space for CHWs to connect\, learn\, and strengthen community health. \nVirginia Community Health Worker Association (VACHWA)\nLa Asociación de Promotores de Salud de Virginia (VACHWA) es un espacio acogedor para Promotores de Salud y otros títulos relacionados\, donde pueden conectarse\, aprender y crecer tanto personal como profesionalmente a través de la educación y la abogacía. \nRegistration Link \nhttps://chwofva.com/wp-content/uploads/2026/04/images-1.png
URL:https://chwofva.com/event/promotor-de-salud-coalition/2027-03-09/
ATTACH;FMTTYPE=image/png:https://chwofva.com/wp-content/uploads/2026/03/Picture1.png
END:VEVENT
BEGIN:VEVENT
DTSTART;VALUE=DATE:20270413
DTEND;VALUE=DATE:20270414
DTSTAMP:20260421T121323
CREATED:20260326T074119Z
LAST-MODIFIED:20260417T190714Z
UID:10000079-1807574400-1807660799@chwofva.com
SUMMARY:Promotor de Salud Coalition
DESCRIPTION:Join VACHWA’s Coalición de Promotores de Salud—our monthly space for CHWs to connect\, learn\, and strengthen community health. \nVirginia Community Health Worker Association (VACHWA)\nLa Asociación de Promotores de Salud de Virginia (VACHWA) es un espacio acogedor para Promotores de Salud y otros títulos relacionados\, donde pueden conectarse\, aprender y crecer tanto personal como profesionalmente a través de la educación y la abogacía. \nRegistration Link \nhttps://chwofva.com/wp-content/uploads/2026/04/images-1.png
URL:https://chwofva.com/event/promotor-de-salud-coalition/2027-04-13/
ATTACH;FMTTYPE=image/png:https://chwofva.com/wp-content/uploads/2026/03/Picture1.png
END:VEVENT
BEGIN:VEVENT
DTSTART;VALUE=DATE:20270511
DTEND;VALUE=DATE:20270512
DTSTAMP:20260421T121323
CREATED:20260326T074119Z
LAST-MODIFIED:20260417T190714Z
UID:10000080-1809993600-1810079999@chwofva.com
SUMMARY:Promotor de Salud Coalition
DESCRIPTION:Join VACHWA’s Coalición de Promotores de Salud—our monthly space for CHWs to connect\, learn\, and strengthen community health. \nVirginia Community Health Worker Association (VACHWA)\nLa Asociación de Promotores de Salud de Virginia (VACHWA) es un espacio acogedor para Promotores de Salud y otros títulos relacionados\, donde pueden conectarse\, aprender y crecer tanto personal como profesionalmente a través de la educación y la abogacía. \nRegistration Link \nhttps://chwofva.com/wp-content/uploads/2026/04/images-1.png
URL:https://chwofva.com/event/promotor-de-salud-coalition/2027-05-11/
ATTACH;FMTTYPE=image/png:https://chwofva.com/wp-content/uploads/2026/03/Picture1.png
END:VEVENT
BEGIN:VEVENT
DTSTART;VALUE=DATE:20270608
DTEND;VALUE=DATE:20270609
DTSTAMP:20260421T121323
CREATED:20260326T074119Z
LAST-MODIFIED:20260417T190714Z
UID:10000081-1812412800-1812499199@chwofva.com
SUMMARY:Promotor de Salud Coalition
DESCRIPTION:Join VACHWA’s Coalición de Promotores de Salud—our monthly space for CHWs to connect\, learn\, and strengthen community health. \nVirginia Community Health Worker Association (VACHWA)\nLa Asociación de Promotores de Salud de Virginia (VACHWA) es un espacio acogedor para Promotores de Salud y otros títulos relacionados\, donde pueden conectarse\, aprender y crecer tanto personal como profesionalmente a través de la educación y la abogacía. \nRegistration Link \nhttps://chwofva.com/wp-content/uploads/2026/04/images-1.png
URL:https://chwofva.com/event/promotor-de-salud-coalition/2027-06-08/
ATTACH;FMTTYPE=image/png:https://chwofva.com/wp-content/uploads/2026/03/Picture1.png
END:VEVENT
BEGIN:VEVENT
DTSTART;VALUE=DATE:20270713
DTEND;VALUE=DATE:20270714
DTSTAMP:20260421T121324
CREATED:20260326T074119Z
LAST-MODIFIED:20260417T190714Z
UID:10000082-1815436800-1815523199@chwofva.com
SUMMARY:Promotor de Salud Coalition
DESCRIPTION:Join VACHWA’s Coalición de Promotores de Salud—our monthly space for CHWs to connect\, learn\, and strengthen community health. \nVirginia Community Health Worker Association (VACHWA)\nLa Asociación de Promotores de Salud de Virginia (VACHWA) es un espacio acogedor para Promotores de Salud y otros títulos relacionados\, donde pueden conectarse\, aprender y crecer tanto personal como profesionalmente a través de la educación y la abogacía. \nRegistration Link \nhttps://chwofva.com/wp-content/uploads/2026/04/images-1.png
URL:https://chwofva.com/event/promotor-de-salud-coalition/2027-07-13/
ATTACH;FMTTYPE=image/png:https://chwofva.com/wp-content/uploads/2026/03/Picture1.png
END:VEVENT
BEGIN:VEVENT
DTSTART;VALUE=DATE:20270810
DTEND;VALUE=DATE:20270811
DTSTAMP:20260421T121324
CREATED:20260326T074119Z
LAST-MODIFIED:20260417T190714Z
UID:10000083-1817856000-1817942399@chwofva.com
SUMMARY:Promotor de Salud Coalition
DESCRIPTION:Join VACHWA’s Coalición de Promotores de Salud—our monthly space for CHWs to connect\, learn\, and strengthen community health. \nVirginia Community Health Worker Association (VACHWA)\nLa Asociación de Promotores de Salud de Virginia (VACHWA) es un espacio acogedor para Promotores de Salud y otros títulos relacionados\, donde pueden conectarse\, aprender y crecer tanto personal como profesionalmente a través de la educación y la abogacía. \nRegistration Link \nhttps://chwofva.com/wp-content/uploads/2026/04/images-1.png
URL:https://chwofva.com/event/promotor-de-salud-coalition/2027-08-10/
ATTACH;FMTTYPE=image/png:https://chwofva.com/wp-content/uploads/2026/03/Picture1.png
END:VEVENT
BEGIN:VEVENT
DTSTART;VALUE=DATE:20270914
DTEND;VALUE=DATE:20270915
DTSTAMP:20260421T121324
CREATED:20260326T074119Z
LAST-MODIFIED:20260417T190714Z
UID:10000084-1820880000-1820966399@chwofva.com
SUMMARY:Promotor de Salud Coalition
DESCRIPTION:Join VACHWA’s Coalición de Promotores de Salud—our monthly space for CHWs to connect\, learn\, and strengthen community health. \nVirginia Community Health Worker Association (VACHWA)\nLa Asociación de Promotores de Salud de Virginia (VACHWA) es un espacio acogedor para Promotores de Salud y otros títulos relacionados\, donde pueden conectarse\, aprender y crecer tanto personal como profesionalmente a través de la educación y la abogacía. \nRegistration Link \nhttps://chwofva.com/wp-content/uploads/2026/04/images-1.png
URL:https://chwofva.com/event/promotor-de-salud-coalition/2027-09-14/
ATTACH;FMTTYPE=image/png:https://chwofva.com/wp-content/uploads/2026/03/Picture1.png
END:VEVENT
BEGIN:VEVENT
DTSTART;VALUE=DATE:20271012
DTEND;VALUE=DATE:20271013
DTSTAMP:20260421T121324
CREATED:20260326T074119Z
LAST-MODIFIED:20260417T190714Z
UID:10000085-1823299200-1823385599@chwofva.com
SUMMARY:Promotor de Salud Coalition
DESCRIPTION:Join VACHWA’s Coalición de Promotores de Salud—our monthly space for CHWs to connect\, learn\, and strengthen community health. \nVirginia Community Health Worker Association (VACHWA)\nLa Asociación de Promotores de Salud de Virginia (VACHWA) es un espacio acogedor para Promotores de Salud y otros títulos relacionados\, donde pueden conectarse\, aprender y crecer tanto personal como profesionalmente a través de la educación y la abogacía. \nRegistration Link \nhttps://chwofva.com/wp-content/uploads/2026/04/images-1.png
URL:https://chwofva.com/event/promotor-de-salud-coalition/2027-10-12/
ATTACH;FMTTYPE=image/png:https://chwofva.com/wp-content/uploads/2026/03/Picture1.png
END:VEVENT
BEGIN:VEVENT
DTSTART;VALUE=DATE:20271109
DTEND;VALUE=DATE:20271110
DTSTAMP:20260421T121324
CREATED:20260326T074119Z
LAST-MODIFIED:20260417T190714Z
UID:10000086-1825718400-1825804799@chwofva.com
SUMMARY:Promotor de Salud Coalition
DESCRIPTION:Join VACHWA’s Coalición de Promotores de Salud—our monthly space for CHWs to connect\, learn\, and strengthen community health. \nVirginia Community Health Worker Association (VACHWA)\nLa Asociación de Promotores de Salud de Virginia (VACHWA) es un espacio acogedor para Promotores de Salud y otros títulos relacionados\, donde pueden conectarse\, aprender y crecer tanto personal como profesionalmente a través de la educación y la abogacía. \nRegistration Link \nhttps://chwofva.com/wp-content/uploads/2026/04/images-1.png
URL:https://chwofva.com/event/promotor-de-salud-coalition/2027-11-09/
ATTACH;FMTTYPE=image/png:https://chwofva.com/wp-content/uploads/2026/03/Picture1.png
END:VEVENT
BEGIN:VEVENT
DTSTART;VALUE=DATE:20271214
DTEND;VALUE=DATE:20271215
DTSTAMP:20260421T121324
CREATED:20260326T074119Z
LAST-MODIFIED:20260417T190714Z
UID:10000087-1828742400-1828828799@chwofva.com
SUMMARY:Promotor de Salud Coalition
DESCRIPTION:Join VACHWA’s Coalición de Promotores de Salud—our monthly space for CHWs to connect\, learn\, and strengthen community health. \nVirginia Community Health Worker Association (VACHWA)\nLa Asociación de Promotores de Salud de Virginia (VACHWA) es un espacio acogedor para Promotores de Salud y otros títulos relacionados\, donde pueden conectarse\, aprender y crecer tanto personal como profesionalmente a través de la educación y la abogacía. \nRegistration Link \nhttps://chwofva.com/wp-content/uploads/2026/04/images-1.png
URL:https://chwofva.com/event/promotor-de-salud-coalition/2027-12-14/
ATTACH;FMTTYPE=image/png:https://chwofva.com/wp-content/uploads/2026/03/Picture1.png
END:VEVENT
BEGIN:VEVENT
DTSTART;VALUE=DATE:20280111
DTEND;VALUE=DATE:20280112
DTSTAMP:20260421T121325
CREATED:20260326T074119Z
LAST-MODIFIED:20260417T190714Z
UID:10000088-1831161600-1831247999@chwofva.com
SUMMARY:Promotor de Salud Coalition
DESCRIPTION:Join VACHWA’s Coalición de Promotores de Salud—our monthly space for CHWs to connect\, learn\, and strengthen community health. \nVirginia Community Health Worker Association (VACHWA)\nLa Asociación de Promotores de Salud de Virginia (VACHWA) es un espacio acogedor para Promotores de Salud y otros títulos relacionados\, donde pueden conectarse\, aprender y crecer tanto personal como profesionalmente a través de la educación y la abogacía. \nRegistration Link \nhttps://chwofva.com/wp-content/uploads/2026/04/images-1.png
URL:https://chwofva.com/event/promotor-de-salud-coalition/2028-01-11/
ATTACH;FMTTYPE=image/png:https://chwofva.com/wp-content/uploads/2026/03/Picture1.png
END:VEVENT
BEGIN:VEVENT
DTSTART;VALUE=DATE:20280208
DTEND;VALUE=DATE:20280209
DTSTAMP:20260421T121325
CREATED:20260326T074119Z
LAST-MODIFIED:20260417T190714Z
UID:10000089-1833580800-1833667199@chwofva.com
SUMMARY:Promotor de Salud Coalition
DESCRIPTION:Join VACHWA’s Coalición de Promotores de Salud—our monthly space for CHWs to connect\, learn\, and strengthen community health. \nVirginia Community Health Worker Association (VACHWA)\nLa Asociación de Promotores de Salud de Virginia (VACHWA) es un espacio acogedor para Promotores de Salud y otros títulos relacionados\, donde pueden conectarse\, aprender y crecer tanto personal como profesionalmente a través de la educación y la abogacía. \nRegistration Link \nhttps://chwofva.com/wp-content/uploads/2026/04/images-1.png
URL:https://chwofva.com/event/promotor-de-salud-coalition/2028-02-08/
ATTACH;FMTTYPE=image/png:https://chwofva.com/wp-content/uploads/2026/03/Picture1.png
END:VEVENT
BEGIN:VEVENT
DTSTART;VALUE=DATE:20280314
DTEND;VALUE=DATE:20280315
DTSTAMP:20260421T121325
CREATED:20260326T074119Z
LAST-MODIFIED:20260417T190714Z
UID:10000090-1836604800-1836691199@chwofva.com
SUMMARY:Promotor de Salud Coalition
DESCRIPTION:Join VACHWA’s Coalición de Promotores de Salud—our monthly space for CHWs to connect\, learn\, and strengthen community health. \nVirginia Community Health Worker Association (VACHWA)\nLa Asociación de Promotores de Salud de Virginia (VACHWA) es un espacio acogedor para Promotores de Salud y otros títulos relacionados\, donde pueden conectarse\, aprender y crecer tanto personal como profesionalmente a través de la educación y la abogacía. \nRegistration Link \nhttps://chwofva.com/wp-content/uploads/2026/04/images-1.png
URL:https://chwofva.com/event/promotor-de-salud-coalition/2028-03-14/
ATTACH;FMTTYPE=image/png:https://chwofva.com/wp-content/uploads/2026/03/Picture1.png
END:VEVENT
BEGIN:VEVENT
DTSTART;VALUE=DATE:20280411
DTEND;VALUE=DATE:20280412
DTSTAMP:20260421T121325
CREATED:20260326T074119Z
LAST-MODIFIED:20260417T190714Z
UID:10000091-1839024000-1839110399@chwofva.com
SUMMARY:Promotor de Salud Coalition
DESCRIPTION:Join VACHWA’s Coalición de Promotores de Salud—our monthly space for CHWs to connect\, learn\, and strengthen community health. \nVirginia Community Health Worker Association (VACHWA)\nLa Asociación de Promotores de Salud de Virginia (VACHWA) es un espacio acogedor para Promotores de Salud y otros títulos relacionados\, donde pueden conectarse\, aprender y crecer tanto personal como profesionalmente a través de la educación y la abogacía. \nRegistration Link \nhttps://chwofva.com/wp-content/uploads/2026/04/images-1.png
URL:https://chwofva.com/event/promotor-de-salud-coalition/2028-04-11/
ATTACH;FMTTYPE=image/png:https://chwofva.com/wp-content/uploads/2026/03/Picture1.png
END:VEVENT
BEGIN:VEVENT
DTSTART;VALUE=DATE:20280509
DTEND;VALUE=DATE:20280510
DTSTAMP:20260421T121325
CREATED:20260326T074119Z
LAST-MODIFIED:20260417T190714Z
UID:10000092-1841443200-1841529599@chwofva.com
SUMMARY:Promotor de Salud Coalition
DESCRIPTION:Join VACHWA’s Coalición de Promotores de Salud—our monthly space for CHWs to connect\, learn\, and strengthen community health. \nVirginia Community Health Worker Association (VACHWA)\nLa Asociación de Promotores de Salud de Virginia (VACHWA) es un espacio acogedor para Promotores de Salud y otros títulos relacionados\, donde pueden conectarse\, aprender y crecer tanto personal como profesionalmente a través de la educación y la abogacía. \nRegistration Link \nhttps://chwofva.com/wp-content/uploads/2026/04/images-1.png
URL:https://chwofva.com/event/promotor-de-salud-coalition/2028-05-09/
ATTACH;FMTTYPE=image/png:https://chwofva.com/wp-content/uploads/2026/03/Picture1.png
END:VEVENT
BEGIN:VEVENT
DTSTART;VALUE=DATE:20280613
DTEND;VALUE=DATE:20280614
DTSTAMP:20260421T121325
CREATED:20260326T074119Z
LAST-MODIFIED:20260417T190714Z
UID:10000093-1844467200-1844553599@chwofva.com
SUMMARY:Promotor de Salud Coalition
DESCRIPTION:Join VACHWA’s Coalición de Promotores de Salud—our monthly space for CHWs to connect\, learn\, and strengthen community health. \nVirginia Community Health Worker Association (VACHWA)\nLa Asociación de Promotores de Salud de Virginia (VACHWA) es un espacio acogedor para Promotores de Salud y otros títulos relacionados\, donde pueden conectarse\, aprender y crecer tanto personal como profesionalmente a través de la educación y la abogacía. \nRegistration Link \nhttps://chwofva.com/wp-content/uploads/2026/04/images-1.png
URL:https://chwofva.com/event/promotor-de-salud-coalition/2028-06-13/
ATTACH;FMTTYPE=image/png:https://chwofva.com/wp-content/uploads/2026/03/Picture1.png
END:VEVENT
BEGIN:VEVENT
DTSTART;VALUE=DATE:20280711
DTEND;VALUE=DATE:20280712
DTSTAMP:20260421T121325
CREATED:20260326T074119Z
LAST-MODIFIED:20260417T190714Z
UID:10000094-1846886400-1846972799@chwofva.com
SUMMARY:Promotor de Salud Coalition
DESCRIPTION:Join VACHWA’s Coalición de Promotores de Salud—our monthly space for CHWs to connect\, learn\, and strengthen community health. \nVirginia Community Health Worker Association (VACHWA)\nLa Asociación de Promotores de Salud de Virginia (VACHWA) es un espacio acogedor para Promotores de Salud y otros títulos relacionados\, donde pueden conectarse\, aprender y crecer tanto personal como profesionalmente a través de la educación y la abogacía. \nRegistration Link \nhttps://chwofva.com/wp-content/uploads/2026/04/images-1.png
URL:https://chwofva.com/event/promotor-de-salud-coalition/2028-07-11/
ATTACH;FMTTYPE=image/png:https://chwofva.com/wp-content/uploads/2026/03/Picture1.png
END:VEVENT
BEGIN:VEVENT
DTSTART;VALUE=DATE:20280808
DTEND;VALUE=DATE:20280809
DTSTAMP:20260421T121325
CREATED:20260326T074119Z
LAST-MODIFIED:20260417T190714Z
UID:10000095-1849305600-1849391999@chwofva.com
SUMMARY:Promotor de Salud Coalition
DESCRIPTION:Join VACHWA’s Coalición de Promotores de Salud—our monthly space for CHWs to connect\, learn\, and strengthen community health. \nVirginia Community Health Worker Association (VACHWA)\nLa Asociación de Promotores de Salud de Virginia (VACHWA) es un espacio acogedor para Promotores de Salud y otros títulos relacionados\, donde pueden conectarse\, aprender y crecer tanto personal como profesionalmente a través de la educación y la abogacía. \nRegistration Link \nhttps://chwofva.com/wp-content/uploads/2026/04/images-1.png
URL:https://chwofva.com/event/promotor-de-salud-coalition/2028-08-08/
ATTACH;FMTTYPE=image/png:https://chwofva.com/wp-content/uploads/2026/03/Picture1.png
END:VEVENT
BEGIN:VEVENT
DTSTART;VALUE=DATE:20280912
DTEND;VALUE=DATE:20280913
DTSTAMP:20260421T121326
CREATED:20260326T074119Z
LAST-MODIFIED:20260417T190714Z
UID:10000096-1852329600-1852415999@chwofva.com
SUMMARY:Promotor de Salud Coalition
DESCRIPTION:Join VACHWA’s Coalición de Promotores de Salud—our monthly space for CHWs to connect\, learn\, and strengthen community health. \nVirginia Community Health Worker Association (VACHWA)\nLa Asociación de Promotores de Salud de Virginia (VACHWA) es un espacio acogedor para Promotores de Salud y otros títulos relacionados\, donde pueden conectarse\, aprender y crecer tanto personal como profesionalmente a través de la educación y la abogacía. \nRegistration Link \nhttps://chwofva.com/wp-content/uploads/2026/04/images-1.png
URL:https://chwofva.com/event/promotor-de-salud-coalition/2028-09-12/
ATTACH;FMTTYPE=image/png:https://chwofva.com/wp-content/uploads/2026/03/Picture1.png
END:VEVENT
BEGIN:VEVENT
DTSTART;VALUE=DATE:20281010
DTEND;VALUE=DATE:20281011
DTSTAMP:20260421T121326
CREATED:20260326T074119Z
LAST-MODIFIED:20260417T190714Z
UID:10000097-1854748800-1854835199@chwofva.com
SUMMARY:Promotor de Salud Coalition
DESCRIPTION:Join VACHWA’s Coalición de Promotores de Salud—our monthly space for CHWs to connect\, learn\, and strengthen community health. \nVirginia Community Health Worker Association (VACHWA)\nLa Asociación de Promotores de Salud de Virginia (VACHWA) es un espacio acogedor para Promotores de Salud y otros títulos relacionados\, donde pueden conectarse\, aprender y crecer tanto personal como profesionalmente a través de la educación y la abogacía. \nRegistration Link \nhttps://chwofva.com/wp-content/uploads/2026/04/images-1.png
URL:https://chwofva.com/event/promotor-de-salud-coalition/2028-10-10/
ATTACH;FMTTYPE=image/png:https://chwofva.com/wp-content/uploads/2026/03/Picture1.png
END:VEVENT
END:VCALENDAR